BEGIN:VCALENDAR
VERSION:2.0
PRODID:-//The Widow Collaborative - ECPv6.15.14//NONSGML v1.0//EN
CALSCALE:GREGORIAN
METHOD:PUBLISH
X-WR-CALNAME:The Widow Collaborative
X-ORIGINAL-URL:https://thewidowcollaborative.com
X-WR-CALDESC:Events for The Widow Collaborative
REFRESH-INTERVAL;VALUE=DURATION:PT1H
X-Robots-Tag:noindex
X-PUBLISHED-TTL:PT1H
BEGIN:VTIMEZONE
TZID:Asia/Krasnoyarsk
BEGIN:STANDARD
TZOFFSETFROM:+0700
TZOFFSETTO:+0700
TZNAME:+07
DTSTART:20250101T000000
END:STANDARD
END:VTIMEZONE
BEGIN:VEVENT
DTSTART;TZID=Asia/Krasnoyarsk:20261203T173000
DTEND;TZID=Asia/Krasnoyarsk:20261203T190000
DTSTAMP:20260420T194337
CREATED:20260224T005807Z
LAST-MODIFIED:20260224T005807Z
UID:6524-1796319000-1796324400@thewidowcollaborative.com
SUMMARY:The Grief Club of MN-Lights of Love Community Tree Lighting Ceremony
DESCRIPTION:Join The Grief Club of MN for an evening of reflection\, love and light to remember family and friends who have gone before us and honor those who have supported us along our grief journey.  \nThe evening will feature a dedication program\, outdoor tree lighting\, music\, mingling\, warm beverages\, sweet treats and cookie decorating. There will be special keepsakes to take home. 
URL:https://thewidowcollaborative.com/event/the-grief-club-of-mn-lights-of-love-community-tree-lighting-ceremony/
LOCATION:The Grief Club of Minnesota\, 2025 Coulter Blvd Suite 100\, Chanhassen\, MN\, 55317
ATTACH;FMTTYPE=image/png:https://thewidowcollaborative.com/wp-content/uploads/2026/02/Square-TWC-Service-Banners-500-x-500-px-38.png
ORGANIZER;CN="The Grief Club of Minnesota":MAILTO:connect@griefclubmn.org
END:VEVENT
END:VCALENDAR