BEGIN:VCALENDAR
VERSION:2.0
PRODID:-//The Widow Collaborative - ECPv6.15.14//NONSGML v1.0//EN
CALSCALE:GREGORIAN
METHOD:PUBLISH
X-WR-CALNAME:The Widow Collaborative
X-ORIGINAL-URL:https://thewidowcollaborative.com
X-WR-CALDESC:Events for The Widow Collaborative
REFRESH-INTERVAL;VALUE=DURATION:PT1H
X-Robots-Tag:noindex
X-PUBLISHED-TTL:PT1H
BEGIN:VTIMEZONE
TZID:Asia/Krasnoyarsk
BEGIN:STANDARD
TZOFFSETFROM:+0700
TZOFFSETTO:+0700
TZNAME:+07
DTSTART:20240101T000000
END:STANDARD
END:VTIMEZONE
BEGIN:VEVENT
DTSTART;TZID=Asia/Krasnoyarsk:20251101T120000
DTEND;TZID=Asia/Krasnoyarsk:20251101T150000
DTSTAMP:20260419T191447
CREATED:20250913T202133Z
LAST-MODIFIED:20250920T000651Z
UID:5604-1761998400-1762009200@thewidowcollaborative.com
SUMMARY:Novembering Luncheon
DESCRIPTION:This event includes a plated lunch\, a time to remember your husband\, and hearing how “Happiness is a choice: finding Joy after loss” from our guest speaker Katie Stifter. Katie\, the author of “The Funny Thing About Grief“\, will share her grief story and dive into how faith\, humor\, and ever- seeking joy can lead to healing!
URL:https://thewidowcollaborative.com/event/novembering-luncheon/
LOCATION:Heritage Center in Brooklyn Center\, 6155 Earle Brown Dr\, Brooklyn Center\, MN\, 55430
ATTACH;FMTTYPE=image/jpeg:https://thewidowcollaborative.com/wp-content/uploads/2025/09/547121308_1320827110084550_5822074792908275343_n.jpg
ORGANIZER;CN="Widow Might":MAILTO:info@widowmight.org
END:VEVENT
BEGIN:VEVENT
DTSTART;TZID=Asia/Krasnoyarsk:20250923T120000
DTEND;TZID=Asia/Krasnoyarsk:20250923T220000
DTSTAMP:20260419T191447
CREATED:20250920T000222Z
LAST-MODIFIED:20250920T000222Z
UID:5719-1758628800-1758664800@thewidowcollaborative.com
SUMMARY:Cheers for a Great Cause to support Brighter Days Family Grief Center
DESCRIPTION:Join Brighter Days for a day of connection\, compassion\, and community impact where 5% of all proceeds will support Brighter Days’ mission to bring hope and healing to grieving families across Minnesota. Junebug Food Truck will also be there and will be donating a portion of their proceeds to Brighter Days.
URL:https://thewidowcollaborative.com/event/cheers-for-a-great-cause-to-support-brighter-days-family-grief-center/
LOCATION:Back Channel Brewing\, 4787 Shoreline Dr\, Spring Park\, MN\, 55384
ATTACH;FMTTYPE=image/jpeg:https://thewidowcollaborative.com/wp-content/uploads/2025/09/547753013_797233572853289_8930536002844650783_n.jpg
ORGANIZER;CN="Brighter Days Family Grief Center":MAILTO:info@brighterdaysgriefcenter.org
END:VEVENT
BEGIN:VEVENT
DTSTART;TZID=Asia/Krasnoyarsk:20250919T191000
DTEND;TZID=Asia/Krasnoyarsk:20250919T191000
DTSTAMP:20260419T191447
CREATED:20250913T144743Z
LAST-MODIFIED:20250913T144743Z
UID:5550-1758309000-1758309000@thewidowcollaborative.com
SUMMARY:Brighter Days at The Twins!
DESCRIPTION:Brighter Days offers events and workshops free of charge as an opportunity to connect to others who understand. 
URL:https://thewidowcollaborative.com/event/brighter-days-at-the-twins/
LOCATION:Target Field\, 1 Twins Way\, Minneapolis\, MN\, 55403
ATTACH;FMTTYPE=image/png:https://thewidowcollaborative.com/wp-content/uploads/2025/09/Twins-Game-Flyer-9-2025.png
ORGANIZER;CN="Brighter Days Family Grief Center":MAILTO:info@brighterdaysgriefcenter.org
END:VEVENT
BEGIN:VEVENT
DTSTART;TZID=Asia/Krasnoyarsk:20250918T180000
DTEND;TZID=Asia/Krasnoyarsk:20250918T180000
DTSTAMP:20260419T191447
CREATED:20250913T195334Z
LAST-MODIFIED:20250913T195334Z
UID:5592-1758218400-1758218400@thewidowcollaborative.com
SUMMARY:Healing Hearts Soiree 2025
DESCRIPTION:Join The Grief Club of Minnesota in honoring five years of healing hearts at The Grief Club of Minnesota’s 5th Annual Healing Hearts Soiree — a powerful evening celebrating the impact of our mission and the incredible community that makes it all possible.
URL:https://thewidowcollaborative.com/event/healing-hearts-soiree-2025/
LOCATION:The Grief Club of Minnesota\, 2025 Coulter Blvd Suite 100\, Chanhassen\, MN\, 55317
ATTACH;FMTTYPE=image/png:https://thewidowcollaborative.com/wp-content/uploads/2025/09/banner_for_qgiv_png-1749833335_large.png
ORGANIZER;CN="The Grief Club of Minnesota":MAILTO:connect@griefclubmn.org
END:VEVENT
END:VCALENDAR