BEGIN:VCALENDAR
VERSION:2.0
PRODID:-//The Widow Collaborative - ECPv6.15.14//NONSGML v1.0//EN
CALSCALE:GREGORIAN
METHOD:PUBLISH
X-ORIGINAL-URL:https://thewidowcollaborative.com
X-WR-CALDESC:Events for The Widow Collaborative
REFRESH-INTERVAL;VALUE=DURATION:PT1H
X-Robots-Tag:noindex
X-PUBLISHED-TTL:PT1H
BEGIN:VTIMEZONE
TZID:Asia/Krasnoyarsk
BEGIN:STANDARD
TZOFFSETFROM:+0700
TZOFFSETTO:+0700
TZNAME:+07
DTSTART:20250101T000000
END:STANDARD
END:VTIMEZONE
BEGIN:VEVENT
DTSTART;TZID=Asia/Krasnoyarsk:20261019T173000
DTEND;TZID=Asia/Krasnoyarsk:20261019T190000
DTSTAMP:20260420T152651
CREATED:20260228T222559Z
LAST-MODIFIED:20260228T222559Z
UID:6562-1792431000-1792436400@thewidowcollaborative.com
SUMMARY:Bri's Lodge- Health Care Directive Workshop
DESCRIPTION:Join Bri’s Lodge for a Health Care Directive Workshop\, a supportive and informative session designed to help you plan ahead with confidence and peace of mind. \nDuring this workshop\, you’ll learn what a health care directive is\, why it’s important\, and how to clearly document your wishes for future medical care. We’ll guide you step-by-step through the process and provide the forms you need — all at no cost. \nTo register: Call 320-217-2029 or email info@brislodge.com
URL:https://thewidowcollaborative.com/event/bris-lodge-health-care-directive-workshop-3/
LOCATION:Private: Bri’s Lodge\, 406 Great Oak Drive\, Waite Park\, MN\, 56387
ATTACH;FMTTYPE=image/png:https://thewidowcollaborative.com/wp-content/uploads/2026/02/Square-TWC-Service-Banners-500-x-500-px-34.png
ORGANIZER;CN="Bri's Lodge":MAILTO:info@brislodge.com
END:VEVENT
END:VCALENDAR