BEGIN:VCALENDAR
VERSION:2.0
PRODID:-//The Widow Collaborative - ECPv6.15.14//NONSGML v1.0//EN
CALSCALE:GREGORIAN
METHOD:PUBLISH
X-ORIGINAL-URL:https://thewidowcollaborative.com
X-WR-CALDESC:Events for The Widow Collaborative
REFRESH-INTERVAL;VALUE=DURATION:PT1H
X-Robots-Tag:noindex
X-PUBLISHED-TTL:PT1H
BEGIN:VTIMEZONE
TZID:Asia/Krasnoyarsk
BEGIN:STANDARD
TZOFFSETFROM:+0700
TZOFFSETTO:+0700
TZNAME:+07
DTSTART:20250101T000000
END:STANDARD
END:VTIMEZONE
BEGIN:VEVENT
DTSTART;TZID=Asia/Krasnoyarsk:20261117T170000
DTEND;TZID=Asia/Krasnoyarsk:20261117T180000
DTSTAMP:20260420T165926
CREATED:20260228T221349Z
LAST-MODIFIED:20260228T221349Z
UID:6554-1794934800-1794938400@thewidowcollaborative.com
SUMMARY:Bri's Lodge- Self Chakra Connection Workshop
DESCRIPTION:oin Bri’s Lodge for a calming Self Chakra Connection Workshop designed to support balance\, relaxation\, and emotional well‑being. You’ll learn a simple hands‑on technique that moves through the body’s energy centers\, helping reduce stress\, support grief processing\, and promote clarity. Dress comfortably\, come with an open mind\, and get ready to experience balance\, clarity\, and calm in your daily life! Yoga mats are optional. ($15 per person/ per session) \nREGISTER HERE: https://Chakraconnection1117.eventbrite.com
URL:https://thewidowcollaborative.com/event/bris-lodge-self-chakra-connection-workshop-3/
LOCATION:Private: Bri’s Lodge\, 406 Great Oak Drive\, Waite Park\, MN\, 56387
ATTACH;FMTTYPE=image/png:https://thewidowcollaborative.com/wp-content/uploads/2026/02/Square-TWC-Service-Banners-500-x-500-px-34.png
ORGANIZER;CN="Bri's Lodge":MAILTO:info@brislodge.com
END:VEVENT
END:VCALENDAR